BEGIN:VCALENDAR
VERSION:2.0
PRODID:-//Carolinas-Virginia Minority Supplier Development - ECPv6.15.20//NONSGML v1.0//EN
CALSCALE:GREGORIAN
METHOD:PUBLISH
X-WR-CALNAME:Carolinas-Virginia Minority Supplier Development
X-ORIGINAL-URL:https://cvmsdc.org
X-WR-CALDESC:Events for Carolinas-Virginia Minority Supplier Development
REFRESH-INTERVAL;VALUE=DURATION:PT1H
X-Robots-Tag:noindex
X-PUBLISHED-TTL:PT1H
BEGIN:VTIMEZONE
TZID:UTC
BEGIN:STANDARD
TZOFFSETFROM:+0000
TZOFFSETTO:+0000
TZNAME:UTC
DTSTART:20230101T000000
END:STANDARD
END:VTIMEZONE
BEGIN:VEVENT
DTSTART;TZID=UTC:20240423T120000
DTEND;TZID=UTC:20240423T130000
DTSTAMP:20260420T182337
CREATED:20240416T183739Z
LAST-MODIFIED:20240416T183744Z
UID:10000140-1713873600-1713877200@cvmsdc.org
SUMMARY:Piedmont/Triad RING Meeting - April '24
DESCRIPTION:Join us on April 23rd for our next Piedmont-Triad RING Meeting. This is a virtual event. Once you register\, a link will be sent to you for the meeting.\n\nAt this meeting\, The lovely Aregnaz Mooradian will be talking about the various programs offered by the SBA (U.S Small Business Administration.) and provide guidance on how to access these services\, so you can be armed with information to confidently start\, grow or expand your small business.\n\nSince September 2021\, Aregnaz Mooradian (ah-deg-nahz moore-aid-ee-yun\, or\, Ari) has been serving as Deputy District Director with the U.S. Small Business Administration’s (SBA) North Carolina District Office in Charlotte. In this capacity\, Aregnaz is a partner to the District Director\, and works for small businesses through expansion of SBA’s programs and services. Prior to this role\, she was Lead Business Opportunity Specialist with SBA\, working to support a portfolio of 8(a) certified firms in navigating the federal small business procurement space.\n\nBefore joining SBA\, Aregnaz worked with the Unites States Peace Corps in Uganda\, East Africa\, where she provided operational support to a local microlender. She started her career in California\, serving as Manager of Volunteers for a Los Angeles based non-profit providing academically focused after-school programs.\n\nAregnaz holds a graduate and undergraduate degree from the California State University\, Long Beach.\n\nPlease register here: site.eventmatches.com/PiedTriadRING
URL:https://cvmsdc.org/council-event/piedmont-triad-ring-meeting-april-24/
CATEGORIES:RING,Webinar
ATTACH;FMTTYPE=image/jpeg:https://cvmsdc.org/wp-content/uploads/2024/04/1713196093899.jpeg
ORGANIZER;CN="CVMSDC":MAILTO:info@cvmsdc.org
END:VEVENT
END:VCALENDAR