BEGIN:VCALENDAR
VERSION:2.0
PRODID:-//Carolinas-Virginia Minority Supplier Development - ECPv6.15.20//NONSGML v1.0//EN
CALSCALE:GREGORIAN
METHOD:PUBLISH
X-WR-CALNAME:Carolinas-Virginia Minority Supplier Development
X-ORIGINAL-URL:https://cvmsdc.org
X-WR-CALDESC:Events for Carolinas-Virginia Minority Supplier Development
REFRESH-INTERVAL;VALUE=DURATION:PT1H
X-Robots-Tag:noindex
X-PUBLISHED-TTL:PT1H
BEGIN:VTIMEZONE
TZID:UTC
BEGIN:STANDARD
TZOFFSETFROM:+0000
TZOFFSETTO:+0000
TZNAME:UTC
DTSTART:20240101T000000
END:STANDARD
END:VTIMEZONE
BEGIN:VEVENT
DTSTART;TZID=UTC:20250508T083000
DTEND;TZID=UTC:20250508T160000
DTSTAMP:20260422T115003
CREATED:20250404T132249Z
LAST-MODIFIED:20250404T132333Z
UID:10000243-1746693000-1746720000@cvmsdc.org
SUMMARY:Scout Motors Indirect Supplier Day
DESCRIPTION:The South Carolina Department of Commerce in partnership with Richland County and Scout Motors will host an in-person supplier day event on Thursday \, May 8th. This event will serve as an opportunity for suppliers to meet with Scout Motors procurement personnel\, learn more about their supplier needs\, and how your company might be able to assist. The following will be taken under consideration first for the Scout Motors Supplier Day Event: \n\nOn-Site Cafeteria Food Service\nJanitorial Services\nIT Networking and Cabling\nLocal Events agency\nWaste management\nFacility Management / Maintenance\nMail room services\nAutomotive Design/Prototype Services\nBanking / Financing Partners\nInventory Management\nFire Brigade onsite services\nProject Management Services\nPPE/MRO/Consumables\nPest Control services\nLandscaping services\nPlant / Office Furniture\nWarehouse Services (3PL)\nEngineering Services\nGeneral Contractors & Skilled Trade\nLogistics Services (Road)\nPackaging Mfg.’s\nMaterial Handling Equipment\nParts Inspection \,Containment\, & Quality Services\nAutomated Guided Vehicles (AGVs)\nScrap Recycling (metal & non-metal commodities)\nAutomotive Related Production Equipment & Services\n\n*Registration is required in order to attend (please note: only two representatives per company will be allowed to attend). \n\n\n\n\n**** How the Scout Motors Supplier Day Process Works: \n✔️ Step 1: Register – While registration is required\, it does not guarantee an appointment. \n✔️ Step 2: Supplier Review – The Scout Motors procurement team will carefully review all registered suppliers and select those that align with their current and future needs. \n✔️ Step 3: Notification – All registrants will be notified whether they have been selected for a meeting or not no later than April 24th. \nEven if you are not selected this time\, your information will be kept on file for future needs. \n\n\n\n\nFormat of Event \nEach supplier will have 15 minutes to speak directly with a member of the Scout Motors procurement team. Be prepared to speak quickly and directly about your offerings. Suppliers will be grouped based on commodities and services however\, due to the overwhelming response\, wait times maybe long. We appreciate your patience. \n\n\n\n\nInterested in becoming a supplier for Scout Motors\, but unable to attend this event? \nPlease complete the form in the link below and the Scout Motors team will evaluate your inquiry and contact you should your products/services be needed. \nhttps://www.scoutmotors.com/vendor-setup \n\nREGISTER HERE! \n\nhttps://www.eventbrite.com/e/scout-motors-indirect-supplier-day-tickets-1291591668449?aff=oddtdtcreator
URL:https://cvmsdc.org/council-event/scout-motors-indirect-supplier-day/
CATEGORIES:In Person,networking
ATTACH;FMTTYPE=image/png:https://cvmsdc.org/wp-content/uploads/2025/04/image-4.png
ORGANIZER;CN="CVMSDC":MAILTO:info@cvmsdc.org
END:VEVENT
END:VCALENDAR