BEGIN:VCALENDAR
VERSION:2.0
PRODID:-//Carolinas-Virginia Minority Supplier Development - ECPv6.15.20//NONSGML v1.0//EN
CALSCALE:GREGORIAN
METHOD:PUBLISH
X-WR-CALNAME:Carolinas-Virginia Minority Supplier Development
X-ORIGINAL-URL:https://cvmsdc.org
X-WR-CALDESC:Events for Carolinas-Virginia Minority Supplier Development
REFRESH-INTERVAL;VALUE=DURATION:PT1H
X-Robots-Tag:noindex
X-PUBLISHED-TTL:PT1H
BEGIN:VTIMEZONE
TZID:UTC
BEGIN:STANDARD
TZOFFSETFROM:+0000
TZOFFSETTO:+0000
TZNAME:UTC
DTSTART:20250101T000000
END:STANDARD
END:VTIMEZONE
BEGIN:VEVENT
DTSTART;TZID=UTC:20260318T080000
DTEND;TZID=UTC:20260318T170000
DTSTAMP:20260423T092850
CREATED:20251215T180929Z
LAST-MODIFIED:20260218T231845Z
UID:10000328-1773820800-1773853200@cvmsdc.org
SUMMARY:ProForum (Corporations Only)
DESCRIPTION:Join us March 18th for the 2026 ProForum (Corporations only) Conference. \nProcurement leaders — AI is already reshaping your function. \nThe real question:\nAre you measuring what actually moves spend? \nJoin us at ProForum 2026 — Corporate Procurement Masterclass: AI + Analytics That Move Spend\, CVMSDC’s exclusive one-day conference built specifically for corporate procurement leaders. \nIn one focused day\, we’ll explore:\n🔹 How AI is reshaping procurement workflows\, decision-making\, and risk management\n🔹 Where AI is delivering real ROI — and where it’s just hype\n🔹 What to measure to prove procurement impact (and how to measure it cleanly)\n🔹 How leading organizations track results by sector and geography — down to zip-code-level insight\n🔹 Why what gets measured is what moves \nIf you influence strategic spend decisions\, performance measurement\, or supplier strategy — this room is built for you.\nSecure your seat.\n#Procurement #StrategicSourcing #AI #SupplyChain #ProcurementLeadership #SpendManagement #Analytics \nWhere: Charlotte\, NC \nRegistration: https://proforum26.eventify.io/p/#/overview
URL:https://cvmsdc.org/council-event/proforum-corporations-only/
LOCATION:
CATEGORIES:Corporate Partner,In Person,networking
ATTACH;FMTTYPE=image/jpeg:https://cvmsdc.org/wp-content/uploads/2025/12/ProForum-2026-Social-Graphics_lighter_LinkedIn.jpg
ORGANIZER;CN="CVMSDC":MAILTO:info@cvmsdc.org
END:VEVENT
BEGIN:VEVENT
DTSTART;TZID=UTC:20260318T080000
DTEND;TZID=UTC:20260318T170000
DTSTAMP:20260423T092850
CREATED:20260219T150737Z
LAST-MODIFIED:20260219T150737Z
UID:10000353-1773820800-1773853200@cvmsdc.org
SUMMARY:2026 Women's Summit: Women Who Launch\, Lead & Build A Legacy
DESCRIPTION:2026 Women’s Summit: Women Who Launch\, Lead\, & Build a Legacy \n\n\n\n\nThe Women Who Launch\, Lead\, & Build a Legacy Summit hosted by the South Carolina Department of Commerce & the Greater Women’s Business Council is a high-energy\, purpose-driven platform designed to ignite leadership\, elevate visibility\, and celebrate women who build boldly. This dynamic gathering brings together entrepreneurs and professionals to connect\, share\, and grow through curated networking experiences\, insightful sessions\, and content that embodies both grit and grace. \nFrom morning coffee to closing connections\, the Summit is packed with inspiration\, innovation\, and intentional collaboration. Attendees will experience powerful keynotes\, TED-style panels\, a vibrant pop-up marketplace\, and bold conversations on branding\, technology\, leadership\, and legacy. \nEvery moment is designed to empower women to launch their vision\, lead with confidence\, and build a legacy that lasts. Through meaningful dialogue and strategic connection\, we’re building a community that amplifies women’s voices\, celebrates their journeys\, and shapes the future of leadership across our state. \nThis is where women come to launch\, lead\, and light the way forward—with legacy at the center.
URL:https://cvmsdc.org/council-event/2026-womens-summit-women-who-launch-lead-build-a-legacy/
LOCATION:SC
CATEGORIES:Corporate Partner,In Person,networking
ATTACH;FMTTYPE=application/pdf:https://cvmsdc.org/wp-content/uploads/2026/02/2026-Womens-Summit-Flyer_Launch-Lead-Legacy.pdf
END:VEVENT
BEGIN:VEVENT
DTSTART;TZID=UTC:20260327T093000
DTEND;TZID=UTC:20260327T170000
DTSTAMP:20260423T092850
CREATED:20260219T154959Z
LAST-MODIFIED:20260223T182829Z
UID:10000356-1774603800-1774630800@cvmsdc.org
SUMMARY:City of Charleston Small Business Expo
DESCRIPTION:Join us March 27th for the City of Charleston Small Business Expo. \nWhen: March 27th | Time: 9:30am \nWhere: Gaillard Auditorium\, Charleston\, SC. \nJoin us for the 7th Annual City of Charleston Small Business Opportunity Expo\, a high-impact event designed to equip entrepreneurs and small business owners with the tools\, relationships\, and opportunities needed to grow and scale their business. \nHosted by the City of Charleston Small Business Enterprise and the Office of Economic Services\, this free event brings together government officials\, resource partners\, and decision-makers under one roof for a full day of learning and engagement. \nWhy Attend?\nThis is more than an expo\, it’s a business growth experience. \n✔ Gain practical strategies from expert-led workshops\n✔ Connect directly with City departments and resource partners\n✔ Discover opportunities for contracting and collaboration\n✔ Network with fellow entrepreneurs and business leaders\n✔ Learn how to leverage social media to grow your business \nWho Should Attend?\n• Small business owners\n• Startups and early-stage entrepreneurs\n• Established businesses looking to scale\n• Vendors interested in government opportunities \n  \nRegister here! https://www.eventbrite.com/e/2026-city-of-charleston-small-business-expo-tickets-1982541585250
URL:https://cvmsdc.org/council-event/city-of-charleston-small-business-expo/
LOCATION:SC
CATEGORIES:Corporate Partner,In Person,networking
ATTACH;FMTTYPE=image/png:https://cvmsdc.org/wp-content/uploads/2026/02/CofCSBOE2026.png
ORGANIZER;CN="CVMSDC":MAILTO:info@cvmsdc.org
END:VEVENT
END:VCALENDAR