BEGIN:VCALENDAR
VERSION:2.0
PRODID:-//Carolinas-Virginia Minority Supplier Development - ECPv6.15.20//NONSGML v1.0//EN
CALSCALE:GREGORIAN
METHOD:PUBLISH
X-WR-CALNAME:Carolinas-Virginia Minority Supplier Development
X-ORIGINAL-URL:https://cvmsdc.org
X-WR-CALDESC:Events for Carolinas-Virginia Minority Supplier Development
REFRESH-INTERVAL;VALUE=DURATION:PT1H
X-Robots-Tag:noindex
X-PUBLISHED-TTL:PT1H
BEGIN:VTIMEZONE
TZID:UTC
BEGIN:STANDARD
TZOFFSETFROM:+0000
TZOFFSETTO:+0000
TZNAME:UTC
DTSTART:20220101T000000
END:STANDARD
END:VTIMEZONE
BEGIN:VEVENT
DTSTART;TZID=UTC:20241204T120000
DTEND;TZID=UTC:20241205T170000
DTSTAMP:20260421T183500
CREATED:20241009T195749Z
LAST-MODIFIED:20241009T195858Z
UID:10000158-1733313600-1733418000@cvmsdc.org
SUMMARY:MBE Summit '24: Inclusive Responsibility
DESCRIPTION:More details to come. Register online at https://site.eventmatches.com/2024MBESUMMIT
URL:https://cvmsdc.org/council-event/mbe-summit-24-inclusive-responsibility/
CATEGORIES:MBE Summit
ATTACH;FMTTYPE=image/jpeg:https://cvmsdc.org/wp-content/uploads/2024/10/big-MBE24-STD_KW.jpg
ORGANIZER;CN="CVMSDC":MAILTO:info@cvmsdc.org
END:VEVENT
BEGIN:VEVENT
DTSTART;TZID=UTC:20231031T120000
DTEND;TZID=UTC:20231101T190000
DTSTAMP:20260421T183500
CREATED:20230822T143128Z
LAST-MODIFIED:20230822T150947Z
UID:10000122-1698753600-1698865200@cvmsdc.org
SUMMARY:2023 MBE Summit: REFINE the Path Forward
DESCRIPTION:In partnership with the Greenville Chamber\, we invite you to register today for the 2023 Diversity & Economic Inclusion Summit! The Diversity & Economic Inclusion Summit is an annual conference that educates and empowers attendees while discussing the latest trends within the diversity\, equity and inclusion space. \nClick here to view 2023 Diversity & Economic Inclusion Summit website. \n*Should you need to cancel your registration within 14 business days of the event\, we will not be able to issue refunds but can transfer your registration to someone else of your choice.
URL:https://cvmsdc.org/council-event/2023-mbe-summit-refine-the-path-forward/
LOCATION:GREENVILLE CONVENTION CENTER
CATEGORIES:In Person,MBE Summit
ATTACH;FMTTYPE=image/jpeg:https://cvmsdc.org/wp-content/uploads/2023/08/large-MBE-WebBanner.jpg
ORGANIZER;CN="CVMSDC":MAILTO:info@cvmsdc.org
END:VEVENT
END:VCALENDAR