BEGIN:VCALENDAR
VERSION:2.0
PRODID:-//Carolinas-Virginia Minority Supplier Development - ECPv6.15.20//NONSGML v1.0//EN
CALSCALE:GREGORIAN
METHOD:PUBLISH
X-ORIGINAL-URL:https://cvmsdc.org
X-WR-CALDESC:Events for Carolinas-Virginia Minority Supplier Development
REFRESH-INTERVAL;VALUE=DURATION:PT1H
X-Robots-Tag:noindex
X-PUBLISHED-TTL:PT1H
BEGIN:VTIMEZONE
TZID:UTC
BEGIN:STANDARD
TZOFFSETFROM:+0000
TZOFFSETTO:+0000
TZNAME:UTC
DTSTART:20230101T000000
END:STANDARD
END:VTIMEZONE
BEGIN:VEVENT
DTSTART;TZID=UTC:20240501T110000
DTEND;TZID=UTC:20240501T120000
DTSTAMP:20260420T151948
CREATED:20230131T154950Z
LAST-MODIFIED:20240419T203743Z
UID:10000133-1714561200-1714564800@cvmsdc.org
SUMMARY:Upstate RING Meeting
DESCRIPTION:The Upstate RING comprises a ten-county area\, including Greenville\, Spartanburg and Anderson\, along the I-85 corridor in South Carolina. Manufacturing\, distribution\, logistics\, and technology are all prominent business industries in the upstate and are changing dynamics of jobs and influencing the way entrepreneurs are starting\, growing\, and acquiring businesses. With several automotive and aerospace related companies headquartered in the upstate supported by a strong system of higher education\, it is considered one of the strongest manufacturing sectors in the United States\, making it a popular hub for entrepreneurs of all ages and backgrounds. \nWe welcome corporate partners and MBEs to join out monthly meetings (1st Wednesday @ 11am) and learn more about the many opportunities for networking\, professional development\, business growth and capacity building. \n\nWednesday\, April 3\, 2024 | Register Here\nWednesday\, May 1\, 2024 | Register Here\nWednesday\, June 5\, 2024 | Register Here\nWednesday\, July 3\, 2024 | Register Here\nWednesday\, September 4\, 2024 | Register Here\nWednesday\, October 2\, 2024 | Register Here\nWednesday\, November 6\, 2024 | Register Here\n\nRegister for Upstate RING Meetings Here
URL:https://cvmsdc.org/council-event/upstate-ring-meeting-3/2024-05-01/
LOCATION:Virtual
CATEGORIES:RING,Webinar
ATTACH;FMTTYPE=image/jpeg:https://cvmsdc.org/wp-content/uploads/2023/01/UpstateRING.jpg
ORGANIZER;CN="CVMSDC":MAILTO:info@cvmsdc.org
END:VEVENT
BEGIN:VEVENT
DTSTART;TZID=UTC:20240514T080000
DTEND;TZID=UTC:20240515T150000
DTSTAMP:20260420T151948
CREATED:20240416T190538Z
LAST-MODIFIED:20240416T190538Z
UID:10000142-1715673600-1715785200@cvmsdc.org
SUMMARY:Sonoco Strategic MBE Supplier Business Conference
DESCRIPTION:Sonoco believes that to achieve our goals relating to sustainability\, it is critical that we establish a capable\, qualified\, competitive and diverse team of suppliers. \nStrategic Supplier Business Conference Agenda \n \n  \n  \n  \n  \nTo register\, please visit: https://site.eventmatches.com/SonocoMBE2024
URL:https://cvmsdc.org/council-event/sonoco-strategic-mbe-supplier-business-conference/
LOCATION:Harris E Deloach Center\, Coker University\, 451 E Carolina Ave\, Hartsville\, 29550\, United States
CATEGORIES:Corporate Partner,In Person
ATTACH;FMTTYPE=image/png:https://cvmsdc.org/wp-content/uploads/2024/04/DiversityMMA-min.png
ORGANIZER;CN="CVMSDC":MAILTO:info@cvmsdc.org
END:VEVENT
BEGIN:VEVENT
DTSTART;TZID=UTC:20240516T120000
DTEND;TZID=UTC:20240516T130000
DTSTAMP:20260420T151948
CREATED:20240208T164810Z
LAST-MODIFIED:20241106T133435Z
UID:10000127-1715860800-1715864400@cvmsdc.org
SUMMARY:MLP (Midlands\, Lowcountry Pee-Dee) RING Meeting
DESCRIPTION:When We Meet\n\n\n\n\nWe welcome you to join our community and connect with our Corporate and MBE members through our monthly meetings and any networking events scheduled. Our goal is to create an environment that fosters solid relationships and provide growth opportunities within South Carolina and surrounding areas. \n\nMarch 21 (12pm) (Register Here)\nApril 18 (12pm) (Register Here)\nMay 16 (12pm) (Register Here)\nJune 20 (12pm) (Register Here)\nSept 19 (12pm) (Register Here)\nOctober 17 (12pm) (Register Here)
URL:https://cvmsdc.org/council-event/mlp-midlands-lowcountry-pee-dee-ring-meeting-3/2024-05-16/
CATEGORIES:RING
ATTACH;FMTTYPE=image/jpeg:https://cvmsdc.org/wp-content/uploads/2024/02/MLPRING.jpg
ORGANIZER;CN="CVMSDC":MAILTO:info@cvmsdc.org
END:VEVENT
BEGIN:VEVENT
DTSTART;TZID=UTC:20240522T080000
DTEND;TZID=UTC:20240522T150000
DTSTAMP:20260420T151948
CREATED:20240416T183451Z
LAST-MODIFIED:20240416T183451Z
UID:10000139-1716364800-1716390000@cvmsdc.org
SUMMARY:2024 Milliken Momentum Supplier Diversity Event
DESCRIPTION:We are thrilled to announce our Second Annual Milliken Momentum Supplier Diversity Conference will be held this May. \nMilliken believes diversity is key to our success.  Having a diverse supplier network enables us to understand the needs of our customers\, tap into new ideas that add value to our business\, and upholds our values and commitments. \nThis event and your participation is critical to our ability to grow diverse business partnerships. This event provides a unique opportunity for small and diverse owned companies to engage and connect not only with Milliken\, but also with our Tier 1 supply base. \nThis year we are expanding our event into a full day of activities including tours of the Milliken property\, focus on sustainability education\, panel reviews\, and learning sessions for participants. \nRegister here: https://www.eventbrite.com/e/2024-milliken-momentum-supplier-diversity-conference-general-admisssion-tickets-837471649247?aff=oddtdtcreator
URL:https://cvmsdc.org/council-event/2024-milliken-momentum-supplier-diversity-event/
LOCATION:920 Milliken Road\, 920 Milliken Road\, Spartanburg\, SC\, 29303\, United States
CATEGORIES:In Person
ATTACH;FMTTYPE=image/jpeg:https://cvmsdc.org/wp-content/uploads/2024/04/https___cdn.evbuc_.com_images_698780769_519161465179_1_original.jpeg
ORGANIZER;CN="CVMSDC":MAILTO:info@cvmsdc.org
END:VEVENT
BEGIN:VEVENT
DTSTART;TZID=UTC:20240523T083000
DTEND;TZID=UTC:20240523T100000
DTSTAMP:20260420T151948
CREATED:20230816T091823Z
LAST-MODIFIED:20240419T203424Z
UID:10000144-1716453000-1716458400@cvmsdc.org
SUMMARY:Metrolina RING Meeting
DESCRIPTION:Metrolina RING meetings will be held on the following dates: \n\nThursday\, April 18th\, 2024\nThursday\, May 23rd\, 2024\nThursday\, July 18th\, 2024\nThursday\, September 19th\, 2024\nThursday\, November 21st\, 2024\n\nPlease Register Here
URL:https://cvmsdc.org/council-event/metrolina-ring-meeting-3-2/2024-05-23/
CATEGORIES:RING
ATTACH;FMTTYPE=image/jpeg:https://cvmsdc.org/wp-content/uploads/2023/08/MetrolinaRING.jpg
ORGANIZER;CN="CVMSDC":MAILTO:info@cvmsdc.org
END:VEVENT
END:VCALENDAR