BEGIN:VCALENDAR
VERSION:2.0
PRODID:-//Carolinas-Virginia Minority Supplier Development - ECPv6.15.20//NONSGML v1.0//EN
CALSCALE:GREGORIAN
METHOD:PUBLISH
X-WR-CALNAME:Carolinas-Virginia Minority Supplier Development
X-ORIGINAL-URL:https://cvmsdc.org
X-WR-CALDESC:Events for Carolinas-Virginia Minority Supplier Development
REFRESH-INTERVAL;VALUE=DURATION:PT1H
X-Robots-Tag:noindex
X-PUBLISHED-TTL:PT1H
BEGIN:VTIMEZONE
TZID:UTC
BEGIN:STANDARD
TZOFFSETFROM:+0000
TZOFFSETTO:+0000
TZNAME:UTC
DTSTART:20210101T000000
END:STANDARD
END:VTIMEZONE
BEGIN:VEVENT
DTSTART;TZID=UTC:20220616T083000
DTEND;TZID=UTC:20220616T100000
DTSTAMP:20260419T122102
CREATED:20220603T161428Z
LAST-MODIFIED:20220603T161454Z
UID:10000029-1655368200-1655373600@cvmsdc.org
SUMMARY:Metrolina RING Meeting
DESCRIPTION:Click here to register!\nSpeakers/Topics: TBD
URL:https://cvmsdc.org/council-event/metrolina-ring-meeting/
LOCATION:Metrolina RING
ATTACH;FMTTYPE=image/jpeg:https://cvmsdc.org/wp-content/uploads/2022/03/CVMSDC_RING@2x.jpg
END:VEVENT
END:VCALENDAR